BEGIN:VCALENDAR
VERSION:2.0
PRODID:-//Tukios.com/
BEGIN:VEVENT
UID:e9782f41-2126-43a3-9876-f03ee154df3d@www.mayberryfuneralservices.com
DTSTAMP:20260421T192601Z
DTSTART:20260425T160000Z
DTEND:20260425T170000Z
SUMMARY:Celebration Of Life for Glendora Pryor
DESCRIPTION:
URL:https://www.mayberryfuneralservices.com/obituaries/glendora-pryor
LOCATION:Community Worship Center 2400 East New York Avenue  Midland TX 
	79701
GEO:31.9956975;-102.0472566
END:VEVENT
END:VCALENDAR