BEGIN:VCALENDAR
VERSION:2.0
PRODID:-//Tukios.com/
BEGIN:VEVENT
UID:f87ad679-e0c2-4181-81a4-fd794c1bbec5@www.mayberryfuneralservices.com
DTSTAMP:20260421T192054Z
DTSTART:20260425T180000Z
DTEND:20260425T190000Z
SUMMARY:Interment for Glendora Pryor
DESCRIPTION:
URL:https://www.mayberryfuneralservices.com/obituaries/glendora-pryor
LOCATION:Resthaven Memorial Park Noth 6510 Texas 349  Midland TX 79705
GEO:32.0732053;-102.0877127
END:VEVENT
END:VCALENDAR