BEGIN:VCALENDAR
VERSION:2.0
PRODID:-//Tukios.com/
BEGIN:VEVENT
UID:95ac5992-8423-47ac-9b17-a909ec6fb7ab@www.mayberryfuneralservices.com
DTSTAMP:20260421T192436Z
DTSTART:20260424T200000Z
DTEND:20260425T010000Z
SUMMARY:Viewing for Glendora Pryor
DESCRIPTION:
URL:https://www.mayberryfuneralservices.com/obituaries/glendora-pryor
LOCATION:Mayberry Funeral Home 406 East Illinois Avenue  Midland TX 79701
GEO:31.9996115;-102.0706344
END:VEVENT
END:VCALENDAR