BEGIN:VCALENDAR
VERSION:2.0
PRODID:-//Tukios.com/
BEGIN:VEVENT
UID:e7e3270c-faa6-443c-b1b3-0a60fd54f3a7@www.mayberryfuneralservices.com
DTSTAMP:20260423T210126Z
DTSTART:20260502T160000Z
DTEND:20260502T170000Z
SUMMARY:Celebration Of Life for Jenetta Odessa Evans
DESCRIPTION:
URL:https://www.mayberryfuneralservices.com/obituaries/jenetta-evans
LOCATION:Northside Church of Christ 1511 North Fort Worth Street  Midland 
	TX 79701
GEO:32.013667;-102.0733232
END:VEVENT
END:VCALENDAR