BEGIN:VCALENDAR
VERSION:2.0
PRODID:-//Tukios.com/
BEGIN:VEVENT
UID:945afe16-e045-4652-8bdf-15b2d372f084@www.mayberryfuneralservices.com
DTSTAMP:20260423T205512Z
DTSTART:20260501T200000Z
DTEND:20260502T010000Z
SUMMARY:Viewing for Jenetta Odessa Evans
DESCRIPTION:
URL:https://www.mayberryfuneralservices.com/obituaries/jenetta-evans
LOCATION:Mayberry Funeral Home 406 East Illinois Avenue  Midland TX 79701
GEO:31.9996115;-102.0706344
END:VEVENT
END:VCALENDAR