BEGIN:VCALENDAR
VERSION:2.0
PRODID:-//Tukios.com/
BEGIN:VEVENT
UID:8ab019da-79f2-457c-8da2-d5df25a6b577@www.mayberryfuneralservices.com
DTSTAMP:20260423T210009Z
DTSTART:20260502
SUMMARY:Interment for Jenetta Odessa Evans
DESCRIPTION:
URL:https://www.mayberryfuneralservices.com/obituaries/jenetta-evans
LOCATION:Serenity Memorial Gardens Cemetery 6800 Texas 349  Midland TX 
	79706
GEO:31.9104103;-102.0560073
END:VEVENT
END:VCALENDAR