BEGIN:VCALENDAR
VERSION:2.0
PRODID:-//Tukios.com/
BEGIN:VEVENT
UID:861ac262-73ec-49c1-b1dd-a1cfad2a6a33@www.mayberryfuneralservices.com
DTSTAMP:20260422T181335Z
DTSTART:20260508T180000Z
DTEND:20260508T190000Z
SUMMARY:Celebration Of Life for Kiana Evans
DESCRIPTION:
URL:https://www.mayberryfuneralservices.com/obituaries/kiana-evans
LOCATION:Mayberry Funeral Home 406 East Illinois Avenue  Midland TX 79701
GEO:31.9996115;-102.0706344
END:VEVENT
END:VCALENDAR