BEGIN:VCALENDAR
VERSION:2.0
PRODID:-//Tukios.com/
BEGIN:VEVENT
UID:70111d28-f7c9-4a8c-b508-1574411df99c@www.mayberryfuneralservices.com
DTSTAMP:20260424T200555Z
DTSTART:20260502T180000Z
DTEND:20260502T190000Z
SUMMARY:Celebration Of Life for Sirnell Morris
DESCRIPTION:
URL:https://www.mayberryfuneralservices.com/obituaries/sirnell-morris
LOCATION:Greater St. Luke AME 401 South Adams Street  Midland TX 79701
GEO:31.9958947;-102.0570245
END:VEVENT
END:VCALENDAR