BEGIN:VCALENDAR
VERSION:2.0
PRODID:-//Tukios.com/
BEGIN:VEVENT
UID:e3db50df-4d59-4d43-9b6e-4df611185ad4@www.mayberryfuneralservices.com
DTSTAMP:20260424T195955Z
DTSTART:20260501T190000Z
DTEND:20260502T010000Z
SUMMARY:Viewing for Sirnell Morris
DESCRIPTION:
URL:https://www.mayberryfuneralservices.com/obituaries/sirnell-morris
LOCATION:Mayberry Funeral Home 406 East Illinois Avenue  Midland TX 79701
GEO:31.9996115;-102.0706344
END:VEVENT
END:VCALENDAR