BEGIN:VCALENDAR
VERSION:2.0
PRODID:-//Tukios.com/
BEGIN:VEVENT
UID:cb24630b-3ccf-44c7-9477-6c41f4d2650b@www.mayberryfuneralservices.com
DTSTAMP:20260424T200712Z
DTSTART:20260502
SUMMARY:Interment for Sirnell Morris
DESCRIPTION:
URL:https://www.mayberryfuneralservices.com/obituaries/sirnell-morris
LOCATION:Serenity Memorial Gardens Cemetery 6800 Texas 349  Midland TX 
	79706
GEO:31.9104103;-102.0560073
END:VEVENT
END:VCALENDAR